BEGIN:VCALENDAR
VERSION:2.0
PRODID:spatie/icalendar-generator
NAME:Fisio Interazioni
X-WR-CALNAME:Fisio Interazioni
DESCRIPTION:Events for Fisio Interazioni
X-WR-CALDESC:Events for Fisio Interazioni
BEGIN:VTIMEZONE
TZID:Europe/Rome
BEGIN:STANDARD
DTSTART:20251026T030000Z
TZOFFSETFROM:+0200
TZOFFSETTO:+0100
END:STANDARD
BEGIN:DAYLIGHT
DTSTART:20260329T020000Z
TZOFFSETFROM:+0100
TZOFFSETTO:+0200
END:DAYLIGHT
BEGIN:STANDARD
DTSTART:20261025T030000Z
TZOFFSETFROM:+0200
TZOFFSETTO:+0100
END:STANDARD
END:VTIMEZONE
BEGIN:VTIMEZONE
TZID:UTC
BEGIN:STANDARD
DTSTART:20250728T171331Z
TZOFFSETFROM:+0000
TZOFFSETTO:+0000
END:STANDARD
END:VTIMEZONE
BEGIN:VEVENT
UID:42828-1778139000-1778144400@fisiointerazioni.ch
DTSTAMP:20260424T171331Z
SUMMARY:Il movimento dopo il primo anno di vita: giochi e attività nei 12-
 24 mesi
DESCRIPTION:Un incontro per genitori di bimbi 12-24 mesi con proposte di gi
 oco che sostengono il movimento autonomo e lo sviluppo cognitivo.
LOCATION:Via Vedreggio 2a\, Lugano\, Lugano\, CH 6900\, Svizzera
ORGANIZER;CN=SCUDO:MAILTO:info@scudo.ch
URL:https://fisiointerazioni.ch/eventi/il-movimento-dopo-il-primo-anno-di-v
 ita-giochi-e-attivita-nei-12-24-mesi-2026-05-07/
DTSTART;TZID=Europe/Rome:20260507T093000
DTEND;TZID=Europe/Rome:20260507T110000
END:VEVENT
END:VCALENDAR